BEGIN:VCALENDAR
VERSION:2.0
PRODID:-//eventon.com NONSGML v1.0//EN
CALSCALE:GREGORIAN
METHOD:PUBLISH
BEGIN:VEVENT
UID:69e9aab1172ce
DTSTAMP:20260423T051425Z
DTSTART:20241025T100000Z
DTEND:20241025T110000Z
LOCATION:
SUMMARY:PANEL: USO DE SUSTANCIAS SINTÉTICAS EN GUATEMALA Y SU IMPACTO EN LA MIGRACIÓN\,  SEGURIDAD Y ECONOMÍA
DESCRIPTION:&#8211; Fecha: Viernes 25 de octubre&#8211; Hora: 10:00 AM&#821
 1; Transmisión en vivo: Escuela de Ciencias Psicológicas &#8211; USAC\nht
 tps://psicousac.edu.gt/events/panel-uso-de-sustancias-sinteticas-en-guatema
 la-y-su-impacto-en-la-migracion-seguridad-y-economia/
URL:https://psicousac.edu.gt/events/panel-uso-de-sustancias-sinteticas-en-guatemala-y-su-impacto-en-la-migracion-seguridad-y-economia/
END:VEVENT
END:VCALENDAR