BEGIN:VCALENDAR
VERSION:2.0
PRODID:-//eventon.com NONSGML v1.0//EN
CALSCALE:GREGORIAN
METHOD:PUBLISH
BEGIN:VEVENT
UID:69e6f14fafaea
DTSTAMP:20260421T033855Z
DTSTART:20240902T120000Z
DTEND:20240911T235900Z
LOCATION:
SUMMARY:RETIRO DE CURSOS ASIGNADOS 2C24
DESCRIPTION:\nhttps://psicousac.edu.gt/events/retiro-de-cursos-asignados-2c
 24/
URL:https://psicousac.edu.gt/events/retiro-de-cursos-asignados-2c24/
END:VEVENT
END:VCALENDAR