BEGIN:VCALENDAR
VERSION:2.0
PRODID:-//eventon.com NONSGML v1.0//EN
CALSCALE:GREGORIAN
METHOD:PUBLISH
BEGIN:VEVENT
UID:69e7acf86f408
DTSTAMP:20260421T165936Z
DTSTART:20240130T003000Z
DTEND:20240130T013000Z
LOCATION:
SUMMARY:Modalidad Tesis-Examen Privado y Tesis-EPS
DESCRIPTION:\nhttps://psicousac.edu.gt/events/modalidad-tesis-examen-privad
 o-y-tesis-eps/
URL:https://psicousac.edu.gt/events/modalidad-tesis-examen-privado-y-tesis-eps/
END:VEVENT
END:VCALENDAR